BEGIN:VCALENDAR
VERSION:2.0
PRODID:Work
X-PUBLISHED-TTL:P1W
BEGIN:VEVENT
UID:69ea0c1f6aed5
DTSTART:20260423T163500Z
SEQUENCE:0
TRANSP:OPAQUE
DTEND:20260423T170000Z
SUMMARY:SS Rugby - 7s World Champs '26 HKG 5th: FIJ v AUS
CLASS:PUBLIC
DTSTAMP:20260423T121007Z
BEGIN:VALARM
TRIGGER:PT0S
ACTION:DISPLAY
END:VALARM
BEGIN:VALARM
TRIGGER:-PT300S
ACTION:DISPLAY
END:VALARM
END:VEVENT
END:VCALENDAR