BEGIN:VCALENDAR
VERSION:2.0
PRODID:Work
X-PUBLISHED-TTL:P1W
BEGIN:VEVENT
UID:69ea240037b15
DTSTART:20260423T160000Z
SEQUENCE:0
TRANSP:OPAQUE
DTEND:20260423T174500Z
SUMMARY:ESPN HD - DFB-Pokal: Bayer Leverkusen vs Bayern
CLASS:PUBLIC
DTSTAMP:20260423T135200Z
BEGIN:VALARM
TRIGGER:PT0S
ACTION:DISPLAY
END:VALARM
BEGIN:VALARM
TRIGGER:-PT300S
ACTION:DISPLAY
END:VALARM
END:VEVENT
END:VCALENDAR