BEGIN:VCALENDAR
VERSION:2.0
PRODID:Work
X-PUBLISHED-TTL:P1W
BEGIN:VEVENT
UID:69ea0c01c6638
DTSTART:20260423T173000Z
SEQUENCE:0
TRANSP:OPAQUE
DTEND:20260423T180000Z
SUMMARY:SS Premier League - PL HL 25/26: Burnley v Man City
CLASS:PUBLIC
DTSTAMP:20260423T120937Z
BEGIN:VALARM
TRIGGER:PT0S
ACTION:DISPLAY
END:VALARM
BEGIN:VALARM
TRIGGER:-PT300S
ACTION:DISPLAY
END:VALARM
END:VEVENT
END:VCALENDAR