BEGIN:VCALENDAR
VERSION:2.0
PRODID:Work
X-PUBLISHED-TTL:P1W
BEGIN:VEVENT
UID:69ea0b36805db
DTSTART:20260423T174500Z
SEQUENCE:0
TRANSP:OPAQUE
DTEND:20260423T181000Z
SUMMARY:ESPN HD - NBA Action
CLASS:PUBLIC
DTSTAMP:20260423T120614Z
BEGIN:VALARM
TRIGGER:PT0S
ACTION:DISPLAY
END:VALARM
BEGIN:VALARM
TRIGGER:-PT300S
ACTION:DISPLAY
END:VALARM
END:VEVENT
END:VCALENDAR