BEGIN:VCALENDAR
VERSION:2.0
PRODID:Work
X-PUBLISHED-TTL:P1W
BEGIN:VEVENT
UID:69ea0b6a3827e
DTSTART:20260423T175000Z
SEQUENCE:0
TRANSP:OPAQUE
DTEND:20260423T181500Z
SUMMARY:SS Rugby - 7s World Champs '26 3rd: NZL v ESP
CLASS:PUBLIC
DTSTAMP:20260423T120706Z
BEGIN:VALARM
TRIGGER:PT0S
ACTION:DISPLAY
END:VALARM
BEGIN:VALARM
TRIGGER:-PT300S
ACTION:DISPLAY
END:VALARM
END:VEVENT
END:VCALENDAR