BEGIN:VCALENDAR
VERSION:2.0
PRODID:Work
X-PUBLISHED-TTL:P1W
BEGIN:VEVENT
UID:69ea0bdf0fd37
DTSTART:20260423T181500Z
SEQUENCE:0
TRANSP:OPAQUE
DTEND:20260423T182000Z
SUMMARY:SuperSport PSL - Soweto Deby HL 16/17: Chiefs v Pirates
CLASS:PUBLIC
DTSTAMP:20260423T120903Z
BEGIN:VALARM
TRIGGER:PT0S
ACTION:DISPLAY
END:VALARM
BEGIN:VALARM
TRIGGER:-PT300S
ACTION:DISPLAY
END:VALARM
END:VEVENT
END:VCALENDAR