BEGIN:VCALENDAR
VERSION:2.0
PRODID:Work
X-PUBLISHED-TTL:P1W
BEGIN:VEVENT
UID:69ea66199ead9
DTSTART:20260423T150000Z
SEQUENCE:0
TRANSP:OPAQUE
DTEND:20260423T182500Z
SUMMARY:SS Variety 2 - Int CRI (W) '26: RSA v IND 3rd T20
CLASS:PUBLIC
DTSTAMP:20260423T183401Z
BEGIN:VALARM
TRIGGER:PT0S
ACTION:DISPLAY
END:VALARM
BEGIN:VALARM
TRIGGER:-PT300S
ACTION:DISPLAY
END:VALARM
END:VEVENT
END:VCALENDAR