BEGIN:VCALENDAR
VERSION:2.0
PRODID:Work
X-PUBLISHED-TTL:P1W
BEGIN:VEVENT
UID:69ea0bd72298b
DTSTART:20260423T163000Z
SEQUENCE:0
TRANSP:OPAQUE
DTEND:20260423T182500Z
SUMMARY:ESPN 2 HD - EFL: Charlton Athletic vs Ipswich Town
CLASS:PUBLIC
DTSTAMP:20260423T120855Z
BEGIN:VALARM
TRIGGER:PT0S
ACTION:DISPLAY
END:VALARM
BEGIN:VALARM
TRIGGER:-PT300S
ACTION:DISPLAY
END:VALARM
END:VEVENT
END:VCALENDAR