BEGIN:VCALENDAR
VERSION:2.0
PRODID:Work
X-PUBLISHED-TTL:P1W
BEGIN:VEVENT
UID:69ea0b7e793d4
DTSTART:20260423T163000Z
SEQUENCE:0
TRANSP:OPAQUE
DTEND:20260423T183000Z
SUMMARY:SS Football - Ligue1 25/26: PSG v Nantes
CLASS:PUBLIC
DTSTAMP:20260423T120726Z
BEGIN:VALARM
TRIGGER:PT0S
ACTION:DISPLAY
END:VALARM
BEGIN:VALARM
TRIGGER:-PT300S
ACTION:DISPLAY
END:VALARM
END:VEVENT
END:VCALENDAR