BEGIN:VCALENDAR
VERSION:2.0
PRODID:Work
X-PUBLISHED-TTL:P1W
BEGIN:VEVENT
UID:69ea0bdd89601
DTSTART:20260423T181500Z
SEQUENCE:0
TRANSP:OPAQUE
DTEND:20260423T185500Z
SUMMARY:SS Rugby - 7s World Champs '26 HKG Fnl: RSA v ARG
CLASS:PUBLIC
DTSTAMP:20260423T120901Z
BEGIN:VALARM
TRIGGER:PT0S
ACTION:DISPLAY
END:VALARM
BEGIN:VALARM
TRIGGER:-PT300S
ACTION:DISPLAY
END:VALARM
END:VEVENT
END:VCALENDAR