BEGIN:VCALENDAR
VERSION:2.0
PRODID:Work
X-PUBLISHED-TTL:P1W
BEGIN:VEVENT
UID:69ea0b380671e
DTSTART:20260423T180000Z
SEQUENCE:0
TRANSP:OPAQUE
DTEND:20260423T190000Z
SUMMARY:SS Golf - Sunshine (W) HL: Investec SA Open D1
CLASS:PUBLIC
DTSTAMP:20260423T120616Z
BEGIN:VALARM
TRIGGER:PT0S
ACTION:DISPLAY
END:VALARM
BEGIN:VALARM
TRIGGER:-PT300S
ACTION:DISPLAY
END:VALARM
END:VEVENT
END:VCALENDAR