BEGIN:VCALENDAR
VERSION:2.0
PRODID:Work
X-PUBLISHED-TTL:P1W
BEGIN:VEVENT
UID:69ea2404b7697
DTSTART:20260423T180000Z
SEQUENCE:0
TRANSP:OPAQUE
DTEND:20260423T190000Z
SUMMARY:SuperSport Blitz - Sports Bulletin Around The Clock
CLASS:PUBLIC
DTSTAMP:20260423T135204Z
BEGIN:VALARM
TRIGGER:PT0S
ACTION:DISPLAY
END:VALARM
BEGIN:VALARM
TRIGGER:-PT300S
ACTION:DISPLAY
END:VALARM
END:VEVENT
END:VCALENDAR