BEGIN:VCALENDAR
VERSION:2.0
PRODID:Work
X-PUBLISHED-TTL:P1W
BEGIN:VEVENT
UID:69ea0b7cf2ec7
DTSTART:20260423T180500Z
SEQUENCE:0
TRANSP:OPAQUE
DTEND:20260423T190000Z
SUMMARY:SS Variety 4 - FA Cup Review 25/26: QFs
CLASS:PUBLIC
DTSTAMP:20260423T120724Z
BEGIN:VALARM
TRIGGER:PT0S
ACTION:DISPLAY
END:VALARM
BEGIN:VALARM
TRIGGER:-PT300S
ACTION:DISPLAY
END:VALARM
END:VEVENT
END:VCALENDAR