BEGIN:VCALENDAR
VERSION:2.0
PRODID:Work
X-PUBLISHED-TTL:P1W
BEGIN:VEVENT
UID:69ea0c256bd97
DTSTART:20260423T183000Z
SEQUENCE:0
TRANSP:OPAQUE
DTEND:20260423T190000Z
SUMMARY:SuperSport PSL - Betway Prem HL: Sundowns v Stel FC
CLASS:PUBLIC
DTSTAMP:20260423T121013Z
BEGIN:VALARM
TRIGGER:PT0S
ACTION:DISPLAY
END:VALARM
BEGIN:VALARM
TRIGGER:-PT300S
ACTION:DISPLAY
END:VALARM
END:VEVENT
END:VCALENDAR