BEGIN:VCALENDAR
VERSION:2.0
PRODID:Work
X-PUBLISHED-TTL:P1W
BEGIN:VEVENT
UID:69ea3bc700388
DTSTART:20260423T190500Z
SEQUENCE:0
TRANSP:OPAQUE
DTEND:20260423T191500Z
SUMMARY:SuperSport MaXimo 1 - Maximo Liga Inglesa Features
CLASS:PUBLIC
DTSTAMP:20260423T153327Z
BEGIN:VALARM
TRIGGER:PT0S
ACTION:DISPLAY
END:VALARM
BEGIN:VALARM
TRIGGER:-PT300S
ACTION:DISPLAY
END:VALARM
END:VEVENT
END:VCALENDAR