BEGIN:VCALENDAR
VERSION:2.0
PRODID:Work
X-PUBLISHED-TTL:P1W
BEGIN:VEVENT
UID:69ea0c3232d31
DTSTART:20260423T191000Z
SEQUENCE:0
TRANSP:OPAQUE
DTEND:20260423T191500Z
SUMMARY:SuperSport LaLiga - LaLiga HL 25/26: R Madrid v Alaves
CLASS:PUBLIC
DTSTAMP:20260423T121026Z
BEGIN:VALARM
TRIGGER:PT0S
ACTION:DISPLAY
END:VALARM
BEGIN:VALARM
TRIGGER:-PT300S
ACTION:DISPLAY
END:VALARM
END:VEVENT
END:VCALENDAR