BEGIN:VCALENDAR
VERSION:2.0
PRODID:Work
X-PUBLISHED-TTL:P1W
BEGIN:VEVENT
UID:69ea0bd12136d
DTSTART:20260423T193000Z
SEQUENCE:0
TRANSP:OPAQUE
DTEND:20260423T200000Z
SUMMARY:SuperSport OTT - Women's Football Weekly
CLASS:PUBLIC
DTSTAMP:20260423T120849Z
BEGIN:VALARM
TRIGGER:PT0S
ACTION:DISPLAY
END:VALARM
BEGIN:VALARM
TRIGGER:-PT300S
ACTION:DISPLAY
END:VALARM
END:VEVENT
END:VCALENDAR