BEGIN:VCALENDAR
VERSION:2.0
PRODID:Work
X-PUBLISHED-TTL:P1W
BEGIN:VEVENT
UID:69ea23c33e7f4
DTSTART:20260423T200000Z
SEQUENCE:0
TRANSP:OPAQUE
DTEND:20260423T201500Z
SUMMARY:SS Variety 4 - IPL HL '26: LSG v RR
CLASS:PUBLIC
DTSTAMP:20260423T135059Z
BEGIN:VALARM
TRIGGER:PT0S
ACTION:DISPLAY
END:VALARM
BEGIN:VALARM
TRIGGER:-PT300S
ACTION:DISPLAY
END:VALARM
END:VEVENT
END:VCALENDAR