BEGIN:VCALENDAR
VERSION:2.0
PRODID:Work
X-PUBLISHED-TTL:P1W
BEGIN:VEVENT
UID:69ea0bce205de
DTSTART:20260423T183000Z
SEQUENCE:0
TRANSP:OPAQUE
DTEND:20260423T203000Z
SUMMARY:SS Football - UYL 25/26 Final: Brugge v R Madrid
CLASS:PUBLIC
DTSTAMP:20260423T120846Z
BEGIN:VALARM
TRIGGER:PT0S
ACTION:DISPLAY
END:VALARM
BEGIN:VALARM
TRIGGER:-PT300S
ACTION:DISPLAY
END:VALARM
END:VEVENT
END:VCALENDAR