BEGIN:VCALENDAR
VERSION:2.0
PRODID:Work
X-PUBLISHED-TTL:P1W
BEGIN:VEVENT
UID:69ea0b11dca95
DTSTART:20260423T204500Z
SEQUENCE:0
TRANSP:OPAQUE
DTEND:20260423T210000Z
SUMMARY:ESPN HD - SPL: Al Nassr vs Al Ettifaq (HL)
CLASS:PUBLIC
DTSTAMP:20260423T120537Z
BEGIN:VALARM
TRIGGER:PT0S
ACTION:DISPLAY
END:VALARM
BEGIN:VALARM
TRIGGER:-PT300S
ACTION:DISPLAY
END:VALARM
END:VEVENT
END:VCALENDAR