BEGIN:VCALENDAR
VERSION:2.0
PRODID:Work
X-PUBLISHED-TTL:P1W
BEGIN:VEVENT
UID:69ea0b28be10b
DTSTART:20260423T203000Z
SEQUENCE:0
TRANSP:OPAQUE
DTEND:20260423T212500Z
SUMMARY:SS Variety 4 - Pulse of a Nation
CLASS:PUBLIC
DTSTAMP:20260423T120600Z
BEGIN:VALARM
TRIGGER:PT0S
ACTION:DISPLAY
END:VALARM
BEGIN:VALARM
TRIGGER:-PT300S
ACTION:DISPLAY
END:VALARM
END:VEVENT
END:VCALENDAR