BEGIN:VCALENDAR
VERSION:2.0
PRODID:Work
X-PUBLISHED-TTL:P1W
BEGIN:VEVENT
UID:69ea3bc1f330b
DTSTART:20260423T203000Z
SEQUENCE:0
TRANSP:OPAQUE
DTEND:20260423T213000Z
SUMMARY:SS Cricket - IPL HL '26: MI v CSK
CLASS:PUBLIC
DTSTAMP:20260423T153321Z
BEGIN:VALARM
TRIGGER:PT0S
ACTION:DISPLAY
END:VALARM
BEGIN:VALARM
TRIGGER:-PT300S
ACTION:DISPLAY
END:VALARM
END:VEVENT
END:VCALENDAR