BEGIN:VCALENDAR
VERSION:2.0
PRODID:Work
X-PUBLISHED-TTL:P1W
BEGIN:VEVENT
UID:69ea0b15e01e6
DTSTART:20260423T210000Z
SEQUENCE:0
TRANSP:OPAQUE
DTEND:20260423T213000Z
SUMMARY:SS Premier League - PL Classic 12/13: Arsenal v Newcastle
CLASS:PUBLIC
DTSTAMP:20260423T120541Z
BEGIN:VALARM
TRIGGER:PT0S
ACTION:DISPLAY
END:VALARM
BEGIN:VALARM
TRIGGER:-PT300S
ACTION:DISPLAY
END:VALARM
END:VEVENT
END:VCALENDAR