BEGIN:VCALENDAR
VERSION:2.0
PRODID:Work
X-PUBLISHED-TTL:P1W
BEGIN:VEVENT
UID:69ea6628a0367
DTSTART:20260423T213000Z
SEQUENCE:0
TRANSP:OPAQUE
DTEND:20260423T214000Z
SUMMARY:ESPN 2 HD - SPL: Al Nassr vs Al Ettifaq (HL)
CLASS:PUBLIC
DTSTAMP:20260423T183416Z
BEGIN:VALARM
TRIGGER:PT0S
ACTION:DISPLAY
END:VALARM
BEGIN:VALARM
TRIGGER:-PT300S
ACTION:DISPLAY
END:VALARM
END:VEVENT
END:VCALENDAR