BEGIN:VCALENDAR
VERSION:2.0
PRODID:Work
X-PUBLISHED-TTL:P1W
BEGIN:VEVENT
UID:69ea0adc15ba7
DTSTART:20260423T213000Z
SEQUENCE:0
TRANSP:OPAQUE
DTEND:20260423T220000Z
SUMMARY:SS Premier League - PL: Rewind
CLASS:PUBLIC
DTSTAMP:20260423T120444Z
BEGIN:VALARM
TRIGGER:PT0S
ACTION:DISPLAY
END:VALARM
BEGIN:VALARM
TRIGGER:-PT300S
ACTION:DISPLAY
END:VALARM
END:VEVENT
END:VCALENDAR