BEGIN:VCALENDAR
VERSION:2.0
PRODID:Work
X-PUBLISHED-TTL:P1W
BEGIN:VEVENT
UID:69ea0c04cb09b
DTSTART:20260423T210000Z
SEQUENCE:0
TRANSP:OPAQUE
DTEND:20260423T223000Z
SUMMARY:SS Variety 1 - La Flèche Wallonne '26: (W) Elite
CLASS:PUBLIC
DTSTAMP:20260423T120940Z
BEGIN:VALARM
TRIGGER:PT0S
ACTION:DISPLAY
END:VALARM
BEGIN:VALARM
TRIGGER:-PT300S
ACTION:DISPLAY
END:VALARM
END:VEVENT
END:VCALENDAR