BEGIN:VCALENDAR
VERSION:2.0
PRODID:Work
X-PUBLISHED-TTL:P1W
BEGIN:VEVENT
UID:69ea0c3fb0699
DTSTART:20260423T213000Z
SEQUENCE:0
TRANSP:OPAQUE
DTEND:20260423T233000Z
SUMMARY:SuperSport LaLiga - LaLiga 25/26: Levante v Sevilla
CLASS:PUBLIC
DTSTAMP:20260423T121039Z
BEGIN:VALARM
TRIGGER:PT0S
ACTION:DISPLAY
END:VALARM
BEGIN:VALARM
TRIGGER:-PT300S
ACTION:DISPLAY
END:VALARM
END:VEVENT
END:VCALENDAR