BEGIN:VCALENDAR
VERSION:2.0
PRODID:Work
X-PUBLISHED-TTL:P1W
BEGIN:VEVENT
UID:69ea0b4108650
DTSTART:20260423T215500Z
SEQUENCE:0
TRANSP:OPAQUE
DTEND:20260423T235500Z
SUMMARY:SS Rugby - SRP '26: Chiefs v Hurricanes
CLASS:PUBLIC
DTSTAMP:20260423T120625Z
BEGIN:VALARM
TRIGGER:PT0S
ACTION:DISPLAY
END:VALARM
BEGIN:VALARM
TRIGGER:-PT300S
ACTION:DISPLAY
END:VALARM
END:VEVENT
END:VCALENDAR