BEGIN:VCALENDAR
VERSION:2.0
PRODID:Work
X-PUBLISHED-TTL:P1W
BEGIN:VEVENT
UID:69ea6a2b56f47
DTSTART:20260424T071500Z
SEQUENCE:0
TRANSP:OPAQUE
DTEND:20260424T080500Z
SUMMARY:SuperSport School HD - Wildeklawer '26 Netball: HSM v DHS
CLASS:PUBLIC
DTSTAMP:20260423T185123Z
BEGIN:VALARM
TRIGGER:PT0S
ACTION:DISPLAY
END:VALARM
BEGIN:VALARM
TRIGGER:-PT300S
ACTION:DISPLAY
END:VALARM
END:VEVENT
END:VCALENDAR