BEGIN:VCALENDAR
VERSION:2.0
PRODID:Work
X-PUBLISHED-TTL:P1W
BEGIN:VEVENT
UID:69ea6a9254b89
DTSTART:20260424T134000Z
SEQUENCE:0
TRANSP:OPAQUE
DTEND:20260424T152500Z
SUMMARY:SuperSport School HD - Wildeklawer '26 RUG: DHS v QC
CLASS:PUBLIC
DTSTAMP:20260423T185306Z
BEGIN:VALARM
TRIGGER:PT0S
ACTION:DISPLAY
END:VALARM
BEGIN:VALARM
TRIGGER:-PT300S
ACTION:DISPLAY
END:VALARM
END:VEVENT
END:VCALENDAR