BEGIN:VCALENDAR
VERSION:2.0
PRODID:Work
X-PUBLISHED-TTL:P1W
BEGIN:VEVENT
UID:69ea69709e382
DTSTART:20260424T170000Z
SEQUENCE:0
TRANSP:OPAQUE
DTEND:20260424T210000Z
SUMMARY:SS Action - Boxing '26: Booi v Nunez
CLASS:PUBLIC
DTSTAMP:20260423T184816Z
BEGIN:VALARM
TRIGGER:PT0S
ACTION:DISPLAY
END:VALARM
BEGIN:VALARM
TRIGGER:-PT300S
ACTION:DISPLAY
END:VALARM
END:VEVENT
END:VCALENDAR