BEGIN:VCALENDAR
VERSION:2.0
PRODID:Work
X-PUBLISHED-TTL:P1W
BEGIN:VEVENT
UID:69e825568b366
DTSTART:20260425T105500Z
SEQUENCE:0
TRANSP:OPAQUE
DTEND:20260425T160000Z
SUMMARY:SuperSport OTT 2 - WSL 25/26: Brighton v Man City
CLASS:PUBLIC
DTSTAMP:20260422T013310Z
BEGIN:VALARM
TRIGGER:PT0S
ACTION:DISPLAY
END:VALARM
BEGIN:VALARM
TRIGGER:-PT300S
ACTION:DISPLAY
END:VALARM
END:VEVENT
END:VCALENDAR