BEGIN:VCALENDAR
VERSION:2.0
PRODID:Work
X-PUBLISHED-TTL:P1W
BEGIN:VEVENT
UID:69e8250167a6f
DTSTART:20260425T165500Z
SEQUENCE:0
TRANSP:OPAQUE
DTEND:20260425T192500Z
SUMMARY:SS Action - NBA 25/26 P/O G4: TBC v Pistons
CLASS:PUBLIC
DTSTAMP:20260422T013145Z
BEGIN:VALARM
TRIGGER:PT0S
ACTION:DISPLAY
END:VALARM
BEGIN:VALARM
TRIGGER:-PT300S
ACTION:DISPLAY
END:VALARM
END:VEVENT
END:VCALENDAR