BEGIN:VCALENDAR
VERSION:2.0
PRODID:Work
X-PUBLISHED-TTL:P1W
BEGIN:VEVENT
UID:69e7e13818625
DTSTART:20260425T192500Z
SEQUENCE:0
TRANSP:OPAQUE
DTEND:20260425T215500Z
SUMMARY:SS Action - NBA 25/26: P/O G3 Suns v Thunder
CLASS:PUBLIC
DTSTAMP:20260421T204232Z
BEGIN:VALARM
TRIGGER:PT0S
ACTION:DISPLAY
END:VALARM
BEGIN:VALARM
TRIGGER:-PT300S
ACTION:DISPLAY
END:VALARM
END:VEVENT
END:VCALENDAR