BEGIN:VCALENDAR
VERSION:2.0
PRODID:Work
X-PUBLISHED-TTL:P1W
BEGIN:VEVENT
UID:69e8255640791
DTSTART:20260425T192500Z
SEQUENCE:0
TRANSP:OPAQUE
DTEND:20260425T215500Z
SUMMARY:SuperSport MaXimo 1 - NBA 25/26 P/O G3: Suns v Oklahoma
CLASS:PUBLIC
DTSTAMP:20260422T013310Z
BEGIN:VALARM
TRIGGER:PT0S
ACTION:DISPLAY
END:VALARM
BEGIN:VALARM
TRIGGER:-PT300S
ACTION:DISPLAY
END:VALARM
END:VEVENT
END:VCALENDAR