BEGIN:VCALENDAR
VERSION:2.0
PRODID:Work
X-PUBLISHED-TTL:P1W
BEGIN:VEVENT
UID:69e73fe76ca99
DTSTART:20260425T215500Z
SEQUENCE:0
TRANSP:OPAQUE
DTEND:20260425T220000Z
SUMMARY:SS Action - NBA 25/26 P/O G3: Hawks v Knicks
CLASS:PUBLIC
DTSTAMP:20260421T091415Z
BEGIN:VALARM
TRIGGER:PT0S
ACTION:DISPLAY
END:VALARM
BEGIN:VALARM
TRIGGER:-PT300S
ACTION:DISPLAY
END:VALARM
END:VEVENT
END:VCALENDAR