BEGIN:VCALENDAR
VERSION:2.0
PRODID:Work
X-PUBLISHED-TTL:P1W
BEGIN:VEVENT
UID:69e9f14323429
DTSTART:20260425T213000Z
SEQUENCE:0
TRANSP:OPAQUE
DTEND:20260426T000000Z
SUMMARY:ESPN HD - NHL First Round: Stars @ Wild (Game 4)
CLASS:PUBLIC
DTSTAMP:20260423T101531Z
BEGIN:VALARM
TRIGGER:PT0S
ACTION:DISPLAY
END:VALARM
BEGIN:VALARM
TRIGGER:-PT300S
ACTION:DISPLAY
END:VALARM
END:VEVENT
END:VCALENDAR