BEGIN:VCALENDAR
VERSION:2.0
PRODID:Work
X-PUBLISHED-TTL:P1W
BEGIN:VEVENT
UID:69e7e12918396
DTSTART:20260425T220000Z
SEQUENCE:0
TRANSP:OPAQUE
DTEND:20260426T000000Z
SUMMARY:SS Grandstand - UFC FN: (W) Alencar v Polastri
CLASS:PUBLIC
DTSTAMP:20260421T204217Z
BEGIN:VALARM
TRIGGER:PT0S
ACTION:DISPLAY
END:VALARM
BEGIN:VALARM
TRIGGER:-PT300S
ACTION:DISPLAY
END:VALARM
END:VEVENT
END:VCALENDAR