BEGIN:VCALENDAR
VERSION:2.0
PRODID:Work
X-PUBLISHED-TTL:P1W
BEGIN:VEVENT
UID:69e7e12e181d6
DTSTART:20260425T215500Z
SEQUENCE:0
TRANSP:OPAQUE
DTEND:20260426T003500Z
SUMMARY:SS Variety 3 - NBA 25/26 P/O G3: Hawks v Knicks
CLASS:PUBLIC
DTSTAMP:20260421T204222Z
BEGIN:VALARM
TRIGGER:PT0S
ACTION:DISPLAY
END:VALARM
BEGIN:VALARM
TRIGGER:-PT300S
ACTION:DISPLAY
END:VALARM
END:VEVENT
END:VCALENDAR