BEGIN:VCALENDAR
VERSION:2.0
PRODID:Work
X-PUBLISHED-TTL:P1W
BEGIN:VEVENT
UID:69e741d441f2f
DTSTART:20260426T003000Z
SEQUENCE:0
TRANSP:OPAQUE
DTEND:20260426T030000Z
SUMMARY:ESPN HD - NBA: Nuggets @ Timberwolves (Game 4)
CLASS:PUBLIC
DTSTAMP:20260421T092228Z
BEGIN:VALARM
TRIGGER:PT0S
ACTION:DISPLAY
END:VALARM
BEGIN:VALARM
TRIGGER:-PT300S
ACTION:DISPLAY
END:VALARM
END:VEVENT
END:VCALENDAR