BEGIN:VCALENDAR
VERSION:2.0
PRODID:Work
X-PUBLISHED-TTL:P1W
BEGIN:VEVENT
UID:69e9f1a0bd96a
DTSTART:20260426T080000Z
SEQUENCE:0
TRANSP:OPAQUE
DTEND:20260426T110000Z
SUMMARY:SS Variety 3 - London Marathon '26
CLASS:PUBLIC
DTSTAMP:20260423T101704Z
BEGIN:VALARM
TRIGGER:PT0S
ACTION:DISPLAY
END:VALARM
BEGIN:VALARM
TRIGGER:-PT300S
ACTION:DISPLAY
END:VALARM
END:VEVENT
END:VCALENDAR