BEGIN:VCALENDAR
VERSION:2.0
PRODID:Work
X-PUBLISHED-TTL:P1W
BEGIN:VEVENT
UID:69e8106a7c165
DTSTART:20260426T123000Z
SEQUENCE:0
TRANSP:OPAQUE
DTEND:20260426T143000Z
SUMMARY:SS Variety 3 - WAC Tour '26: BOT Golden GP
CLASS:PUBLIC
DTSTAMP:20260422T000354Z
BEGIN:VALARM
TRIGGER:PT0S
ACTION:DISPLAY
END:VALARM
BEGIN:VALARM
TRIGGER:-PT300S
ACTION:DISPLAY
END:VALARM
END:VEVENT
END:VCALENDAR