BEGIN:VCALENDAR
VERSION:2.0
PRODID:Work
X-PUBLISHED-TTL:P1W
BEGIN:VEVENT
UID:69e740e5063fe
DTSTART:20260426T225500Z
SEQUENCE:0
TRANSP:OPAQUE
DTEND:20260427T010000Z
SUMMARY:SS Action - NBA 25/26 P/O G4: 76ers v Celtics
CLASS:PUBLIC
DTSTAMP:20260421T091829Z
BEGIN:VALARM
TRIGGER:PT0S
ACTION:DISPLAY
END:VALARM
BEGIN:VALARM
TRIGGER:-PT300S
ACTION:DISPLAY
END:VALARM
END:VEVENT
END:VCALENDAR