BEGIN:VCALENDAR
VERSION:2.0
PRODID:Work
X-PUBLISHED-TTL:P1W
BEGIN:VEVENT
UID:69e741a84fa6b
DTSTART:20260426T225500Z
SEQUENCE:0
TRANSP:OPAQUE
DTEND:20260427T012500Z
SUMMARY:SuperSport MaXimo 1 - NBA 25/26 P/O G4: 76ers v Celtic
CLASS:PUBLIC
DTSTAMP:20260421T092144Z
BEGIN:VALARM
TRIGGER:PT0S
ACTION:DISPLAY
END:VALARM
BEGIN:VALARM
TRIGGER:-PT300S
ACTION:DISPLAY
END:VALARM
END:VEVENT
END:VCALENDAR