BEGIN:VCALENDAR
VERSION:2.0
PRODID:Work
X-PUBLISHED-TTL:P1W
BEGIN:VEVENT
UID:69e740201297f
DTSTART:20260427T012500Z
SEQUENCE:0
TRANSP:OPAQUE
DTEND:20260427T040000Z
SUMMARY:SS Action - NBA 25/26 P/O G4: Rockets v Lakers
CLASS:PUBLIC
DTSTAMP:20260421T091512Z
BEGIN:VALARM
TRIGGER:PT0S
ACTION:DISPLAY
END:VALARM
BEGIN:VALARM
TRIGGER:-PT300S
ACTION:DISPLAY
END:VALARM
END:VEVENT
END:VCALENDAR