BEGIN:VCALENDAR
VERSION:2.0
PRODID:Work
X-PUBLISHED-TTL:P1W
BEGIN:VEVENT
UID:69ea0b3c80e4a
DTSTART:20260428T093000Z
SEQUENCE:0
TRANSP:OPAQUE
DTEND:20260428T130000Z
SUMMARY:SS Variety 4 - WAC Tour '26: Simbine Classic Pre-Prog
CLASS:PUBLIC
DTSTAMP:20260423T120620Z
BEGIN:VALARM
TRIGGER:PT0S
ACTION:DISPLAY
END:VALARM
BEGIN:VALARM
TRIGGER:-PT300S
ACTION:DISPLAY
END:VALARM
END:VEVENT
END:VCALENDAR