BEGIN:VCALENDAR
VERSION:2.0
PRODID:Work
X-PUBLISHED-TTL:P1W
BEGIN:VEVENT
UID:69e9f163dac0f
DTSTART:20260428T132500Z
SEQUENCE:0
TRANSP:OPAQUE
DTEND:20260428T160000Z
SUMMARY:SS Variety 4 - WAC Tour '26: Simbine Classic
CLASS:PUBLIC
DTSTAMP:20260423T101603Z
BEGIN:VALARM
TRIGGER:PT0S
ACTION:DISPLAY
END:VALARM
BEGIN:VALARM
TRIGGER:-PT300S
ACTION:DISPLAY
END:VALARM
END:VEVENT
END:VCALENDAR