BEGIN:VCALENDAR
VERSION:2.0
PRODID:Work
X-PUBLISHED-TTL:P1W
BEGIN:VEVENT
UID:69e9f1a86f15e
DTSTART:20260428T133000Z
SEQUENCE:0
TRANSP:OPAQUE
DTEND:20260428T160000Z
SUMMARY:SS Variety 1 - Tour de Romandie '26: Prologue
CLASS:PUBLIC
DTSTAMP:20260423T101712Z
BEGIN:VALARM
TRIGGER:PT0S
ACTION:DISPLAY
END:VALARM
BEGIN:VALARM
TRIGGER:-PT300S
ACTION:DISPLAY
END:VALARM
END:VEVENT
END:VCALENDAR