BEGIN:VCALENDAR
VERSION:2.0
PRODID:Work
X-PUBLISHED-TTL:P1W
BEGIN:VEVENT
UID:69e9f1a0712b4
DTSTART:20260428T145000Z
SEQUENCE:0
TRANSP:OPAQUE
DTEND:20260428T163000Z
SUMMARY:SS Variety 3 - TNL '26 Div 2: Sonoblomo v MAW U21
CLASS:PUBLIC
DTSTAMP:20260423T101704Z
BEGIN:VALARM
TRIGGER:PT0S
ACTION:DISPLAY
END:VALARM
BEGIN:VALARM
TRIGGER:-PT300S
ACTION:DISPLAY
END:VALARM
END:VEVENT
END:VCALENDAR