BEGIN:VCALENDAR
VERSION:2.0
PRODID:Work
X-PUBLISHED-TTL:P1W
BEGIN:VEVENT
UID:69e9eaeb9a1c1
DTSTART:20260428T185500Z
SEQUENCE:0
TRANSP:OPAQUE
DTEND:20260428T210000Z
SUMMARY:SS Premier League - UCL 25/26 SF1: PSG v Bayern
CLASS:PUBLIC
DTSTAMP:20260423T094827Z
BEGIN:VALARM
TRIGGER:PT0S
ACTION:DISPLAY
END:VALARM
BEGIN:VALARM
TRIGGER:-PT300S
ACTION:DISPLAY
END:VALARM
END:VEVENT
END:VCALENDAR